BEGIN:VCALENDAR
VERSION:2.0
PRODID:-// - ECPv6.15.20//NONSGML v1.0//EN
CALSCALE:GREGORIAN
METHOD:PUBLISH
X-ORIGINAL-URL:https://taggmagazine.com
X-WR-CALDESC:Events for 
REFRESH-INTERVAL;VALUE=DURATION:PT1H
X-Robots-Tag:noindex
X-PUBLISHED-TTL:PT1H
BEGIN:VTIMEZONE
TZID:America/Los_Angeles
BEGIN:DAYLIGHT
TZOFFSETFROM:-0800
TZOFFSETTO:-0700
TZNAME:PDT
DTSTART:20250309T100000
END:DAYLIGHT
BEGIN:STANDARD
TZOFFSETFROM:-0700
TZOFFSETTO:-0800
TZNAME:PST
DTSTART:20251102T090000
END:STANDARD
BEGIN:DAYLIGHT
TZOFFSETFROM:-0800
TZOFFSETTO:-0700
TZNAME:PDT
DTSTART:20260308T100000
END:DAYLIGHT
BEGIN:STANDARD
TZOFFSETFROM:-0700
TZOFFSETTO:-0800
TZNAME:PST
DTSTART:20261101T090000
END:STANDARD
BEGIN:DAYLIGHT
TZOFFSETFROM:-0800
TZOFFSETTO:-0700
TZNAME:PDT
DTSTART:20270314T100000
END:DAYLIGHT
BEGIN:STANDARD
TZOFFSETFROM:-0700
TZOFFSETTO:-0800
TZNAME:PST
DTSTART:20271107T090000
END:STANDARD
END:VTIMEZONE
BEGIN:VEVENT
DTSTART;VALUE=DATE:20260509
DTEND;VALUE=DATE:20260510
DTSTAMP:20260421T033948
CREATED:20260402T023006Z
LAST-MODIFIED:20260402T030240Z
UID:104306-1778284800-1778371199@taggmagazine.com
SUMMARY:📍DC: The Uncaged Film Festival: A celebration of Black LGBTQ+ films
DESCRIPTION:Join us for our 3rd Annual Black\, LGBTQ+ film festival! The Uncaged Film Festival \nTo celebrate Black queer lives on film\, we’ll showcase short films from across the country with\npanel discussions featuring many of the filmmakers. Enjoy a day of food\, fun and film! We’ll also debut the newest Cagedbirds Productions film\, “It’s OurAnniversary.” \nShow your support by walking on our red carpet. Expect special guests\, engaging conversations and an impactful evening of cinema. Food and drinks will be available. \nWhere: 2009 14th Street\, NW Washington\, DC \nWhen: Saturday\, May 9 from 6 pm to 9 pm EST. Doors Open @ 6 pm. Screening begins @ 6:30 pm. \nWhat: Films are listed below.\n• Black Rainbow\n• We Call It Ballroom\n• Miss Honey\n• Surviving Pulse\n• Home\n• Taper\n• Gasoline\n• It’s Our Anniversary \nHow: Tickets start at $12.51. Get them here. \nThis event is sponsored by DC Arts and Humanities. For more information\, please follow us\non Instagram: @CagedbirdsProductions
URL:https://taggmagazine.com/events/the-uncaged-film-festival-a-celebration-of-black-lgbtq-films/
LOCATION:Spark Social\, 2009 14th Street Northwest\, Washington\, DC\, 20009\, United States
CATEGORIES:Film Festival
END:VEVENT
END:VCALENDAR